BEGIN:VCALENDAR
VERSION:2.0
PRODID:icalendar-ruby
CALSCALE:GREGORIAN
METHOD:PUBLISH
BEGIN:VEVENT
DTSTAMP:20260423T113408Z
UID:37-300193@tanqueverde.tithelysetup5.com
DTSTART:20260517T190000Z
DTEND:20260517T220000Z
CLASS:PUBLIC
CREATED:20260419T151748
DESCRIPTION:
LAST-MODIFIED:20260419T151748
LOCATION:Downstairs
SUMMARY:May Potluck
URL;VALUE=URI:https://www.tanqueverdebiblechurch.com/events/may-potluck--37
 /2026-05-17
END:VEVENT
END:VCALENDAR
